BEGIN:VCALENDAR
VERSION:2.0
PRODID:-//ChamberMaster//Event Calendar 2.0//EN
METHOD:PUBLISH
X-PUBLISHED-TTL:P3D
REFRESH-INTERVAL:P3D
CALSCALE:GREGORIAN
BEGIN:VEVENT
DTSTART:20250918T220000Z
DTEND:20250918T233000Z
X-MICROSOFT-CDO-ALLDAYEVENT:FALSE
SUMMARY:After Hours - Pollo Rosa Vineyard & Winery
DESCRIPTION:Be sure and join us September 18th from 5-6:30p::m where Pollo Rosa Vineyard & Winery will be hosting the Cleburne Chamber of Commerce "After Hours Business Social." Don't miss this fantastic opportunity to connect with local business leaders and like-minded professionals in our community. Let's learn from each other and build lasting connections.\n\n\n1335 FM 4 CLEBURNE\, TX ...
X-ALT-DESC;FMTTYPE=text/html:<div dir="auto" style="font-family: &quot\;Segoe UI Historic&quot\;\, &quot\;Segoe UI&quot\;\, Helvetica\, Arial\, sans-serif\; color: rgb(8\, 8\, 9)\; font-size: 15px\; white-space-collapse: preserve\;">Be sure and join us September 18th from 5-6:30p::m where Pollo Rosa Vineyard &amp\; Winery will be hosting the Cleburne Chamber of Commerce &ldquo\;After Hours Business Social.&rdquo\; Don&rsquo\;t miss this fantastic opportunity to connect with local business leaders and like-minded professionals in our community. Let&#39\;s learn from each other and build lasting connections.</div>\n<br />\n<span style="font-weight: bold\; color: rgb(118\, 118\, 118)\; font-family: Roboto\, Arial\, sans-serif\; font-size: 14px\;">1335 FM 4 CLEBURNE\, TX</span><span style="color: rgb(71\, 71\, 71)\; font-family: Roboto\, Arial\, sans-serif\; font-size: 14px\;">&nbsp\;...</span>\n\n<div dir="auto" style="font-family: &quot\;Segoe UI Historic&quot\;\, &quot\;Segoe UI&quot\;\, Helvetica\, Arial\, sans-serif\; color: rgb(8\, 8\, 9)\; font-size: 15px\; white-space-collapse: preserve\;">&nbsp\;</div>\n
LOCATION:1335 FM 4 CLEBURNE\, TX ...
UID:e.2143.42124
SEQUENCE:3
DTSTAMP:20260425T013630Z
URL:http://business.cleburnechamber.com/events/details/after-hours-pollo-rosa-vineyard-winery-42124
END:VEVENT

END:VCALENDAR
