BEGIN:VCALENDAR
VERSION:2.0
PRODID:-//ChamberMaster//Event Calendar 2.0//EN
METHOD:PUBLISH
X-PUBLISHED-TTL:P3D
REFRESH-INTERVAL:P3D
CALSCALE:GREGORIAN
BEGIN:VEVENT
DTSTART;VALUE=DATE:20260918
DTEND;VALUE=DATE:20260919
TRANSP:TRANSPARENT
X-MICROSOFT-CDO-ALLDAYEVENT:TRUE
SUMMARY:Aiming High For Kids Sporting Clay Shoot
DESCRIPTION:CASA Johnson County Fund raiser.
X-ALT-DESC;FMTTYPE=text/html:CASA Johnson County Fund raiser.
LOCATION:Alpine Shooting Range 5482 Shelby Rd Fort Worth\, Texas
UID:e.2143.46891
SEQUENCE:3
DTSTAMP:20260425T012429Z
URL:http://business.cleburnechamber.com/events/details/aiming-high-for-kids-sporting-clay-shoot-46891
END:VEVENT

END:VCALENDAR
