BEGIN:VCALENDAR
VERSION:2.0
PRODID:-//ChamberMaster//Event Calendar 2.0//EN
METHOD:PUBLISH
X-PUBLISHED-TTL:P3D
REFRESH-INTERVAL:P3D
CALSCALE:GREGORIAN
BEGIN:VEVENT
DTSTART;VALUE=DATE:20250725
DTEND;VALUE=DATE:20250902
TRANSP:TRANSPARENT
X-MICROSOFT-CDO-ALLDAYEVENT:TRUE
SUMMARY:All Aboard Shop Cleburne 2025
DESCRIPTION:All Aboard Shop Cleburne\, presented by Classic of Cleburne Chevrolet\, GMC\, Buick is a 'thank you " to our customers\, shopping campaign that encourages shopping in Cleburne during July 25 - September 1st\, 2025 (includes tax free weekend) The campaign gives away a total of $7000\, split into 4 prizes. \n\nFriday August 8th- $1\,000.00 give-away 2pm @ Cleburne Chamber of Commerce\n\nThursday August 14th- $1\,000.00 give-away 2pm @ BATES etc. Travel\n\nFriday August 22-$1\,000.00 give-away 2pm @ Legacy Texas Property Management\n\nFriday Sept. 5-$4\,000.00 give-away 2pm @ Classic of Cleburne Chevy\, GMC\, Buick\n\nThe Chamber will randomly select a participating business each week\, to hand out All Aboard Bucks to random.\n\nAll Prizes must be claimed by calling the Chamber office the  Monday after each drawing no later than 3pm if not\, present.\n\n\n\n\n\nChamber office 817-645-2455
X-ALT-DESC;FMTTYPE=text/html:<p>All Aboard Shop Cleburne\, presented by Classic of Cleburne Chevrolet\, GMC\, Buick is a &#39\;thank you &quot\; to our customers\, shopping campaign that encourages shopping in Cleburne during July 25 - September 1st\, 2025 (includes tax free weekend) The campaign gives away a total of $7000\, split into 4 prizes.&nbsp\;</p>\n\n<p class="cvGsUA direction-ltr align-start para-style-body" style="font-family: YACgEZbkUVE_0\, _fb_\, auto\; --cyV3ZQ: 27.2px\; --gJPlXQ: 1.4\; line-height: 38px\;"><strong><span class="OYPEnA font-feature-liga-off font-feature-clig-off font-feature-calt-off text-decoration-none text-strikethrough-none" style="font-kerning: normal\; --Ys-XuQ: none\;">Friday August 8</span><span class="OYPEnA font-feature-liga-off font-feature-clig-off font-feature-calt-off text-decoration-none text-strikethrough-none font-size-modifier vertical-align" style="font-kerning: normal\; --Ys-XuQ: none\; --A-HVVw: 0.6\; --PLq4ZA: 43\;">th</span><span class="OYPEnA font-feature-liga-off font-feature-clig-off font-feature-calt-off text-decoration-none text-strikethrough-none" style="font-kerning: normal\; --Ys-XuQ: none\;">-</span><span class="OYPEnA font-feature-liga-off font-feature-clig-off font-feature-calt-off text-decoration-none text-strikethrough-none" style="color: rgb(168\, 73\, 73)\; font-kerning: normal\; --Ys-XuQ: none\;"> $1\,000.00</span><span class="OYPEnA font-feature-liga-off font-feature-clig-off font-feature-calt-off text-decoration-none text-strikethrough-none" style="font-kerning: normal\; --Ys-XuQ: none\;"> give-away 2pm @ Cleburne Chamber</span><span class="OYPEnA font-feature-liga-off font-feature-clig-off font-feature-calt-off text-decoration-none text-strikethrough-none white-space-prewrap" style="font-kerning: normal\; --Ys-XuQ: none\;"> </span><span class="OYPEnA font-feature-liga-off font-feature-clig-off font-feature-calt-off text-decoration-none text-strikethrough-none" style="font-kerning: normal\; --Ys-XuQ: none\;">of Commerce</span></strong></p>\n\n<p class="cvGsUA direction-ltr align-start para-style-body" style="font-family: YACgEZbkUVE_0\, _fb_\, auto\; --cyV3ZQ: 27.2091px\; --gJPlXQ: 1.4\; line-height: 38px\;"><strong><span class="OYPEnA font-feature-liga-off font-feature-clig-off font-feature-calt-off text-decoration-none text-strikethrough-none" style="font-kerning: normal\; --Ys-XuQ: none\;">Thursday August 14</span><span class="OYPEnA font-feature-liga-off font-feature-clig-off font-feature-calt-off text-decoration-none text-strikethrough-none font-size-modifier vertical-align" style="font-kerning: normal\; --Ys-XuQ: none\; --A-HVVw: 0.6\; --PLq4ZA: 43\;">th</span><span class="OYPEnA font-feature-liga-off font-feature-clig-off font-feature-calt-off text-decoration-none text-strikethrough-none" style="font-kerning: normal\; --Ys-XuQ: none\;">-</span><span class="OYPEnA font-feature-liga-off font-feature-clig-off font-feature-calt-off text-decoration-none text-strikethrough-none" style="color: rgb(168\, 73\, 73)\; font-kerning: normal\; --Ys-XuQ: none\;"> $1\,000.00</span><span class="OYPEnA font-feature-liga-off font-feature-clig-off font-feature-calt-off text-decoration-none text-strikethrough-none white-space-prewrap" style="color: rgb(168\, 73\, 73)\; font-kerning: normal\; --Ys-XuQ: none\;"> </span><span class="OYPEnA font-feature-liga-off font-feature-clig-off font-feature-calt-off text-decoration-none text-strikethrough-none" style="font-kerning: normal\; --Ys-XuQ: none\;">give-away 2pm @ BATES etc. Travel</span></strong></p>\n\n<p class="cvGsUA direction-ltr align-start para-style-body" style="font-family: YACgEZbkUVE_0\, _fb_\, auto\; --cyV3ZQ: 27.2091px\; --gJPlXQ: 1.4\; line-height: 38px\;"><strong><span class="OYPEnA font-feature-liga-off font-feature-clig-off font-feature-calt-off text-decoration-none text-strikethrough-none" style="font-kerning: normal\; --Ys-XuQ: none\;">Friday August 22-</span><span class="OYPEnA font-feature-liga-off font-feature-clig-off font-feature-calt-off text-decoration-none text-strikethrough-none" style="color: rgb(168\, 73\, 73)\; font-kerning: normal\; --Ys-XuQ: none\;">$1\,000.00 </span><span class="OYPEnA font-feature-liga-off font-feature-clig-off font-feature-calt-off text-decoration-none text-strikethrough-none" style="font-kerning: normal\; --Ys-XuQ: none\;">give-away 2pm @ Legacy Texas Property Management</span></strong></p>\n\n<p class="cvGsUA direction-ltr align-start para-style-body" style="font-family: YACgEZbkUVE_0\, _fb_\, auto\; --cyV3ZQ: 27.2091px\; --gJPlXQ: 1.4\; line-height: 38px\;"><strong><span class="OYPEnA font-feature-liga-off font-feature-clig-off font-feature-calt-off text-decoration-none text-strikethrough-none" style="font-kerning: normal\; --Ys-XuQ: none\;">Friday Sept. 5-</span><span class="OYPEnA font-feature-liga-off font-feature-clig-off font-feature-calt-off text-decoration-none text-strikethrough-none" style="color: rgb(168\, 73\, 73)\; font-kerning: normal\; --Ys-XuQ: none\;">$4\,000.00</span><span class="OYPEnA font-feature-liga-off font-feature-clig-off font-feature-calt-off text-decoration-none text-strikethrough-none white-space-prewrap" style="font-kerning: normal\; --Ys-XuQ: none\;"> </span><span class="OYPEnA font-feature-liga-off font-feature-clig-off font-feature-calt-off text-decoration-none text-strikethrough-none" style="font-kerning: normal\; --Ys-XuQ: none\;">give-away 2pm @ Classic of Cleburne Chevy\, GMC\, Buick</span></strong><br />\nThe Chamber will randomly select a participating business each week\, to hand out All Aboard Bucks to random.</p>\n\n<p class="cvGsUA direction-ltr align-start para-style-body" style="font-family: YACgEZbkUVE_0\, _fb_\, auto\; --cyV3ZQ: 27.2091px\; --gJPlXQ: 1.4\; line-height: 38px\;"><span style="font-size:20px\;"><strong><span class="OYPEnA font-feature-liga-off font-feature-clig-off font-feature-calt-off text-decoration-none text-strikethrough-none" style="font-kerning: normal\; --Ys-XuQ: none\;">All Prizes must be claimed by calling the Chamber office&nbsp\;the&nbsp\; Monday after each drawing&nbsp\;no later than&nbsp\;3pm if not\, present.</span></strong></span></p>\n\n<p><br />\n<br />\nChamber office 817-645-2455&nbsp\;</p>\n
LOCATION:Entire community of Cleburne
UID:e.2143.41138
SEQUENCE:3
DTSTAMP:20260425T013549Z
URL:http://business.cleburnechamber.com/events/details/all-aboard-shop-cleburne-2025-41138
END:VEVENT

END:VCALENDAR
