BEGIN:VCALENDAR
VERSION:2.0
PRODID:-//ChamberMaster//Event Calendar 2.0//EN
METHOD:PUBLISH
X-PUBLISHED-TTL:P3D
REFRESH-INTERVAL:P3D
CALSCALE:GREGORIAN
BEGIN:VEVENT
DTSTART:20251109T000000Z
DTEND:20251109T050000Z
X-MICROSOFT-CDO-ALLDAYEVENT:FALSE
SUMMARY:ATHENA Society of Burleson Tree-Mendous Gala
DESCRIPTION:The ATHENA Society of Burleson is hosting a Tree-Mendous Gala. Come join us for a magical evening featuring a one-of-a-kind Christmas tree auction\, raffle drawings\, catered dinner\, dancing and a night full of holiday celebration. To purchase tickets\, become a sponsor or decorate a tree visit treemendousgala.com. Trees will be provided to those wanting to participate free of charge. This is an opportunity to make a difference in the lives of Johnson County residents\, as we raise money to support cancer patients and educational assistance.
X-ALT-DESC;FMTTYPE=text/html:The ATHENA Society of Burleson is hosting a Tree-Mendous Gala. Come join us for a magical evening featuring a one-of-a-kind Christmas tree auction\, raffle drawings\, catered dinner\, dancing and a night full of holiday celebration. To purchase tickets\, become a sponsor or decorate a tree visit treemendousgala.com. Trees will be provided to those wanting to participate free of charge. This is an opportunity to make a difference in the lives of Johnson County residents\, as we raise money to support cancer patients and educational assistance.
LOCATION:Burleson Event Center\, 1150 S. Burleson Blvd.\, Burleson\, Texas
UID:e.2143.43517
SEQUENCE:3
DTSTAMP:20260420T220847Z
URL:http://business.cleburnechamber.com/events/details/athena-society-of-burleson-tree-mendous-gala-43517
END:VEVENT

END:VCALENDAR
