BEGIN:VCALENDAR
VERSION:2.0
PRODID:-//ChamberMaster//Event Calendar 2.0//EN
METHOD:PUBLISH
X-PUBLISHED-TTL:P3D
REFRESH-INTERVAL:P3D
CALSCALE:GREGORIAN
BEGIN:VEVENT
DTSTART:20260508T230000Z
DTEND:20260509T000000Z
X-MICROSOFT-CDO-ALLDAYEVENT:FALSE
SUMMARY:Book Signing: Texas Turf
DESCRIPTION:Join us for a book signing with Cleburne's own Dr. Anne Bailey! She will be reading from\, signing\, and answering questions about her latest book Texas Turf Horse Racing in 19th Century Texas.
X-ALT-DESC;FMTTYPE=text/html:Join us for a book signing with Cleburne&#39\;s own Dr. Anne Bailey! She will be reading from\, signing\, and answering questions about her latest book&nbsp\;<em>Texas Turf Horse Racing in 19th Century Texas.&nbsp\;</em>
LOCATION:Cleburne Railroad Museum
UID:e.2143.46880
SEQUENCE:3
DTSTAMP:20260423T143020Z
URL:http://business.cleburnechamber.com/events/details/book-signing-texas-turf-46880
END:VEVENT

END:VCALENDAR
