BEGIN:VCALENDAR
VERSION:2.0
PRODID:-//ChamberMaster//Event Calendar 2.0//EN
METHOD:PUBLISH
X-PUBLISHED-TTL:P3D
REFRESH-INTERVAL:P3D
CALSCALE:GREGORIAN
BEGIN:VEVENT
DTSTART:20260530T220000Z
DTEND:20260531T010000Z
X-MICROSOFT-CDO-ALLDAYEVENT:FALSE
SUMMARY:Boot & BBQ Fundraiser
DESCRIPTION:Join us for a fun-filled evening at the Boots & BBQ Fundraiser benefiting Soldiers Point Texas\, a nonprofit dedicated to supporting homeless veterans as they build a better future.\n\nEnjoy delicious barbecue plates for just $20 while spending time with friends and family. This community event will also feature live music\, a bounce house for the kids and a dessert table- something for everyone!
X-ALT-DESC;FMTTYPE=text/html:Join us for a fun-filled evening at the Boots &amp\; BBQ Fundraiser benefiting Soldiers Point Texas\, a nonprofit dedicated to supporting homeless veterans as they build a better future.<br />\nEnjoy delicious barbecue plates for just $20 while spending time with friends and family. This community event will also feature live music\, a bounce house for the kids and a dessert table- something for everyone!
LOCATION:VFW 6732 E Highway 67\, Alvarado\, TX 76009
UID:e.2143.46881
SEQUENCE:3
DTSTAMP:20260423T123822Z
URL:http://business.cleburnechamber.com/events/details/boot-bbq-fundraiser-46881
END:VEVENT

END:VCALENDAR
