BEGIN:VCALENDAR
VERSION:2.0
PRODID:-//ChamberMaster//Event Calendar 2.0//EN
METHOD:PUBLISH
X-PUBLISHED-TTL:P3D
REFRESH-INTERVAL:P3D
CALSCALE:GREGORIAN
BEGIN:VEVENT
DTSTART:20251209T013000Z
DTEND:20251209T030000Z
X-MICROSOFT-CDO-ALLDAYEVENT:FALSE
SUMMARY:Brazos Chamber Orchestra and Field Street Sanctuary Choir Present Agnus Dei This Christmas Season!
DESCRIPTION:Be sure to invite family and friends to a heart warming presentation by the Brazos Chamber Orchestra and Field Street Sanctuary Choir.  Agnus Dei\, by Michael W. Smith and David Hamilton under the direction of David R. Anavitarte will be a Christmas concert you do not want to miss!
X-ALT-DESC;FMTTYPE=text/html:<strong>Be sure to invite family and friends </strong>to a heart warming presentation by the Brazos Chamber Orchestra and Field Street Sanctuary Choir.&nbsp\; Agnus Dei\, by Michael W. Smith and David Hamilton under the direction of David R. Anavitarte will be a Christmas concert you do not want to miss!
LOCATION:Field Street Baptist Church 201 N Field St\, Cleburne\, TX 76033
UID:e.2143.45749
SEQUENCE:3
DTSTAMP:20260420T201412Z
URL:http://business.cleburnechamber.com/events/details/brazos-chamber-orchestra-and-field-street-sanctuary-choir-present-agnus-dei-this-christmas-season-45749
END:VEVENT

END:VCALENDAR
