BEGIN:VCALENDAR
VERSION:2.0
PRODID:-//ChamberMaster//Event Calendar 2.0//EN
METHOD:PUBLISH
X-PUBLISHED-TTL:P3D
REFRESH-INTERVAL:P3D
CALSCALE:GREGORIAN
BEGIN:VEVENT
DTSTART:20241210T013000Z
DTEND:20241210T030000Z
X-MICROSOFT-CDO-ALLDAYEVENT:FALSE
SUMMARY:Brazos Chamber Orchestra Christmas Concert 2024
DESCRIPTION:The Brazos Chamber Orchestra Invites you to attend our Christmas Concert!   Below is a list of songs the Orchestra will perform.  The BCO has been been performing concerts for over 27 years\, under the direction of David R. Anavitarte.   Concerts are free to the audience but donations are accepted at our concerts\, online at our website or on FB.   Christmas is the best time of the year to enjoy friends\, family and beautiful music.\n\n\n\nBCO 2024 CHRISTMAS SONG LIST\n\nDecember Orchestra Concert Series   December 2024\n\nMonday\, December 9 Field Street Baptist Church Cleburne\n\nSunday\, December 15 The Center @ Pathway Church\, Burleson\n\nMonday\, December 16 Granbury First United Methodist Church\n\nProgram\n\nMajesty Jack Hayford/arr. Richard Kingsmore\n\nThe National Anthem\n\nFrancis Scott Key/John Stafford Smith/Jeff Cranfill\n\nHark! The Herald Angels Sing Felix Mendelssohn/arr. Ted Ricketts\n\nChorale Prelude: Let All Mortal Flesh Keep Silent arr. Kurt Heinecke\n\nUkrainian Bell Carol arr. Kurt Heinecke\n\nGreensleeves arr. Matt Riley CELLO\, VIOLIN\, PIANO\n\nA Christmas Tiding Tyler Arcari\n\nBells of the Winter Range arr. Dylan Off-Fixmer\n\nMary Did You Know arr. Cliff Duren Brentwood Benson\n\nA Christmas Festival Leroy Anderson\n\n\n\nCome out and enjoy an evening of enchanted music with the Brazos Chamber Orchestra!
X-ALT-DESC;FMTTYPE=text/html:<br />\n<strong>The Brazos Chamber Orchestra Invites you</strong> to attend our Christmas Concert!&nbsp\; &nbsp\;Below is a list of songs the Orchestra will perform.&nbsp\; The BCO has been been performing concerts for over 27 years\, under the direction of David R. Anavitarte.&nbsp\; &nbsp\;Concerts are free to the audience but donations are accepted at our concerts\, online at our website or on FB.&nbsp\; &nbsp\;Christmas is the best time of the year to enjoy friends\, family and beautiful music.<br />\n<br />\n<strong>BCO 2024 CHRISTMAS SONG LIST</strong><br />\n<strong>December Orchestra Concert Series &ndash\; December 2024</strong><br />\nMonday\, December 9 Field Street Baptist Church Cleburne<br />\nSunday\, December 15 The Center @ Pathway Church\, Burleson<br />\nMonday\, December 16 Granbury First United Methodist Church<br />\n<strong>Program</strong><br />\nMajesty Jack Hayford/arr. Richard Kingsmore<br />\nThe National Anthem<br />\nFrancis Scott Key/John Stafford Smith/Jeff Cranfill<br />\nHark! The Herald Angels Sing Felix Mendelssohn/arr. Ted Ricketts<br />\nChorale Prelude: Let All Mortal Flesh Keep Silent arr. Kurt Heinecke<br />\nUkrainian Bell Carol arr. Kurt Heinecke<br />\nGreensleeves arr. Matt Riley CELLO\, VIOLIN\, PIANO<br />\nA Christmas Tiding Tyler Arcari<br />\nBells of the Winter Range arr. Dylan Off-Fixmer<br />\nMary Did You Know arr. Cliff Duren Brentwood Benson<br />\nA Christmas Festival Leroy Anderson<br />\n<br />\n<strong>Come out and enjoy an evening of enchanted music</strong> with the Brazos Chamber Orchestra!<br />\n<br />\n&nbsp\;
LOCATION:Field Street Baptist Church\, Cleburne\, Texas
UID:e.2143.38600
SEQUENCE:3
DTSTAMP:20260421T203413Z
URL:http://business.cleburnechamber.com/events/details/brazos-chamber-orchestra-christmas-concert-2024-38600
END:VEVENT

END:VCALENDAR
