BEGIN:VCALENDAR
VERSION:2.0
PRODID:-//ChamberMaster//Event Calendar 2.0//EN
METHOD:PUBLISH
X-PUBLISHED-TTL:P3D
REFRESH-INTERVAL:P3D
CALSCALE:GREGORIAN
BEGIN:VEVENT
DTSTART:20250828T160000Z
DTEND:20250828T180000Z
X-MICROSOFT-CDO-ALLDAYEVENT:FALSE
SUMMARY:Bridges of Care
DESCRIPTION:Let's build bridges of care together!\n\nHosted by Santa Fe Trails  \n\nCo-hosted by Ridgeview Village\, Gateway Hospice\, Caring Senior Service\, Enhabit Home Health\n\nJoin us to explore these services and \n\nmeet the teams who provide them. \n\nWhether you need support today or are planning for tomorrow\, your bridge to care starts here.\n\nFor more information or to RSVP:\n\nDebra Tanguay   817-645-0785\n\nSanta Fe Trails   402 S Colonial Dr\, Cleburne\, TX
X-ALT-DESC;FMTTYPE=text/html:<p><strong>Let&rsquo\;s build bridges of care together!<br />\nHosted by Santa Fe Trails&nbsp\;&nbsp\;<br />\nCo-hosted by Ridgeview Village\, Gateway Hospice\, Caring Senior Service\, Enhabit Home Health</strong></p>\n\n<p><strong>Join us to explore these services and</strong><strong> </strong></p>\n\n<p><strong>meet the teams who provide them.</strong><strong> </strong></p>\n\n<p><strong>Whether you need support today or are planning for tomorrow\, your bridge to care starts here.</strong></p>\n\n<p><strong>For more information or to RSVP:</strong></p>\n\n<p><strong>Debra Tanguay &mdash\; 817-645-0785</strong></p>\n\n<p><strong>Santa Fe Trails &ndash\; 402 S Colonial Dr\, Cleburne\, TX</strong></p>\n\n<p>&nbsp\;</p>\n
LOCATION:Santa Fe Trails 402 S Colonial Dr\, Cleburne\, TX
UID:e.2143.41799
SEQUENCE:3
DTSTAMP:20260421T032952Z
URL:http://business.cleburnechamber.com/events/details/bridges-of-care-41799
END:VEVENT

END:VCALENDAR
