BEGIN:VCALENDAR
VERSION:2.0
PRODID:-//ChamberMaster//Event Calendar 2.0//EN
METHOD:PUBLISH
X-PUBLISHED-TTL:P3D
REFRESH-INTERVAL:P3D
CALSCALE:GREGORIAN
BEGIN:VEVENT
DTSTART:20250909T143000Z
DTEND:20250909T163000Z
X-MICROSOFT-CDO-ALLDAYEVENT:FALSE
SUMMARY:CBC Mom Link
DESCRIPTION:CBC Mom Link is a place for women who are journeying through motherhood\, to come together and link arms.\nCBC Mom Link meets the second Tuesday of each month September through May\, from 9:30AM   11:30AM in the Children's Ministry Area Gym of Cleburne Bible Church. We are always open for new members! Childcare is also provided\, but pre-registration for childcare is required and can be done using the link below. \n\nhttps://cleburnebiblechurch.churchcenter.com/registrations/events\n\n\n\nJoin the Facebook group for updates about Play Dates\, Game Nights\, Mom's Night Out\, and more!\n\n https://www.facebook.com/groups/cbcmomlink
X-ALT-DESC;FMTTYPE=text/html:<h2>CBC Mom Link is a place for women who are journeying through motherhood\, to come together and link arms.</h2>\nCBC Mom Link meets the second Tuesday of each month September through May\, from 9:30AM &ndash\; 11:30AM in the Children&#39\;s Ministry Area Gym of Cleburne Bible Church. We are always open for new members! Childcare is also provided\, but pre-registration for childcare is required and can be done using the link below.&nbsp\;<br />\n<a href="https://cleburnebiblechurch.churchcenter.com/registrations/events">https://cleburnebiblechurch.churchcenter.com/registrations/events</a><br />\n<br />\nJoin the Facebook group for updates about Play Dates\, Game Nights\, Mom&#39\;s Night Out\, and more!<br />\n&nbsp\;<a href="https://www.facebook.com/groups/cbcmomlink">https://www.facebook.com/groups/cbcmomlink</a><br />\n<br />\n&nbsp\;
LOCATION:CMA-C at Cleburne Bible Church 930 N. Nolan River Rd Cleburne\, Tx 76033
UID:e.2143.41999
SEQUENCE:3
DTSTAMP:20260421T013936Z
URL:http://business.cleburnechamber.com/events/details/cbc-mom-link-09-09-2025-41999
END:VEVENT

END:VCALENDAR
