BEGIN:VCALENDAR
VERSION:2.0
PRODID:-//ChamberMaster//Event Calendar 2.0//EN
METHOD:PUBLISH
X-PUBLISHED-TTL:P3D
REFRESH-INTERVAL:P3D
CALSCALE:GREGORIAN
BEGIN:VEVENT
DTSTART:20261013T163000Z
DTEND:20261013T180000Z
X-MICROSOFT-CDO-ALLDAYEVENT:FALSE
SUMMARY:Chamber Lunch Social -Ridgeview Village
DESCRIPTION:Be sure and join us October 13thth\, 2026 where Ridgeview Village will be hosting the Cleburne Chamber of Commerce "Lunch Business Social." Don't miss this fantastic opportunity to connect with local business leaders and like-minded professionals in our community. Let's learn from each other and build lasting connections.\n\n206 Walls Drive\, Cleburne.
X-ALT-DESC;FMTTYPE=text/html:<div dir="auto" style="font-family: &quot\;Segoe UI Historic&quot\;\, &quot\;Segoe UI&quot\;\, Helvetica\, Arial\, sans-serif\; color: rgb(8\, 8\, 9)\; font-size: 15px\; white-space-collapse: preserve\;">Be sure and join us October 13thth\, 2026 where Ridgeview Village will be hosting the Cleburne Chamber of Commerce &ldquo\;Lunch Business Social.&rdquo\; Don&rsquo\;t miss this fantastic opportunity to connect with local business leaders and like-minded professionals in our community. Let&#39\;s learn from each other and build lasting connections.</div>\n\n<div dir="auto" style="font-family: &quot\;Segoe UI Historic&quot\;\, &quot\;Segoe UI&quot\;\, Helvetica\, Arial\, sans-serif\; color: rgb(8\, 8\, 9)\; font-size: 15px\; white-space-collapse: preserve\;">206 Walls Drive\, Cleburne.</div>\n\n<div dir="auto" style="font-family: &quot\;Segoe UI Historic&quot\;\, &quot\;Segoe UI&quot\;\, Helvetica\, Arial\, sans-serif\; color: rgb(8\, 8\, 9)\; font-size: 15px\; white-space-collapse: preserve\;">&nbsp\;</div>\n
LOCATION:206 Walls Drive\, Cleburne TX 76033
UID:e.2143.46251
SEQUENCE:3
DTSTAMP:20260424T233926Z
URL:http://business.cleburnechamber.com/events/details/chamber-lunch-social-ridgeview-village-46251
END:VEVENT

END:VCALENDAR
