BEGIN:VCALENDAR
VERSION:2.0
PRODID:-//ChamberMaster//Event Calendar 2.0//EN
METHOD:PUBLISH
X-PUBLISHED-TTL:P3D
REFRESH-INTERVAL:P3D
CALSCALE:GREGORIAN
BEGIN:VEVENT
DTSTART:20260219T233000Z
DTEND:20260220T023000Z
X-MICROSOFT-CDO-ALLDAYEVENT:FALSE
SUMMARY:Chamber's 107th Annual Community Awards Celebration "Elevate & Celebrate"
DESCRIPTION:Chamber's 107th Annual Community Awards Celebration\n\n\n\n It will be an exciting evening honoring those who make a difference everyday in our community!\n\n Thanks to our Presenting Partner\, Members Credit Union.\n\n\n\nThe Cleburne Chamber Annual Community Awards & Dinner is an exciting time for members to network\, enjoy great food\, and celebrate business and the community! \n\n\n\n- Live Entertainment \n\n- Live and Silent Auction\n\n- Cash Bar Available!!!\n\nHappening February 19th  - Doors open at 5:30\n\nSocial Hour and Live Auction and Silent Auction will be inside the Conference Banquet Room till 6:15\n\n6:15-6:55 Dinner will be served.\n\n7pm-830pm Awards Banquet- And Live & Silent Auction\n\n\n\nCleburne Conference Center\n\n1501 W Henderson\n\nThank you for supporting the Chamber\, its members\, and the Cleburne business community!\n\n\n\nPlease be sure to pick your entree when registering.\n\n\n\n(We sincerely apologize for the increase in event costs\, which reflects rising prices for goods and services beyond our control.)
X-ALT-DESC;FMTTYPE=text/html:<strong><span style="font-size:16px\;">Chamber&#39\;s 107th Annual Community Awards Celebration</span></strong><br />\n<br />\n<span style="font-size: 16px\;"><b>&nbsp\;It will be an exciting evening honoring those who make a difference everyday in our community!<br />\n&nbsp\;Thanks to our Presenting Partner\, Members Credit Union.</b></span><br />\n<br />\n<span style="font-family:tahoma\;"><font style="color: rgb(51\, 51\, 51)\; font-size: 13px\;">The&nbsp\;Cleburne Chamber&nbsp\;Annual Community Awards &amp\; Dinner is an exciting time for members to network\, enjoy great food\, and celebrate business and the community!</font>&nbsp\;<br />\n<br />\n- Live Entertainment&nbsp\;<br />\n- Live and Silent Auction<br />\n- Cash Bar Available!!!<br />\nHappening February 19th&nbsp\; - Doors open at 5:30<br />\nSocial Hour and Live Auction and Silent Auction will be inside the Conference Banquet Room till 6:15<br />\n6:15-6:55 Dinner will be served.<br />\n7pm-830pm Awards Banquet- And Live &amp\; Silent Auction<br />\n<br />\nCleburne Conference Center<br />\n1501 W Henderson</span>\n\n<p><span style="font-family:tahoma\;"><strong>Thank you for supporting the Chamber\, its members\, and the Cleburne business community!<br />\n<br />\nPlease be sure to pick your entree&nbsp\;when registering.<br />\n<br />\n(We sincerely apologize for the&nbsp\;increase in event&nbsp\;costs\, which reflects rising prices&nbsp\;for goods and services beyond our control.)</strong></span></p>\n
LOCATION:Cleburne Conference Center 1501 W Henderson\, Cleburne
UID:e.2143.45755
SEQUENCE:3
DTSTAMP:20260420T161145Z
URL:http://business.cleburnechamber.com/events/details/chamber-s-107th-annual-community-awards-celebration-45755
END:VEVENT

END:VCALENDAR
