BEGIN:VCALENDAR
VERSION:2.0
PRODID:-//ChamberMaster//Event Calendar 2.0//EN
METHOD:PUBLISH
X-PUBLISHED-TTL:P3D
REFRESH-INTERVAL:P3D
CALSCALE:GREGORIAN
BEGIN:VEVENT
DTSTART:20260516T170000Z
DTEND:20260516T210000Z
X-MICROSOFT-CDO-ALLDAYEVENT:FALSE
SUMMARY:Chisholm Trace Mayfest
DESCRIPTION:Chisholm Trace Mayfest\n\n\n\nRAFFLE\, MUSIC & MORE!\n\nLOCAL VENDORS\, FOOD TRUCKS\, DRINKS\, BOUNCEHOUSE\,
X-ALT-DESC;FMTTYPE=text/html:Chisholm Trace Mayfest<br />\n<br />\nRAFFLE\, MUSIC &amp\; MORE!<br />\nLOCAL VENDORS\, FOOD TRUCKS\, DRINKS\, BOUNCEHOUSE\,<br />\n<br />\n&nbsp\;
LOCATION:2051 Mayfield PKWY Cleburne TX 76033
UID:e.2143.46887
SEQUENCE:3
DTSTAMP:20260423T155732Z
URL:http://business.cleburnechamber.com/events/details/chisholm-trace-mayfest-46887
END:VEVENT

END:VCALENDAR
