BEGIN:VCALENDAR
VERSION:2.0
PRODID:-//ChamberMaster//Event Calendar 2.0//EN
METHOD:PUBLISH
X-PUBLISHED-TTL:P3D
REFRESH-INTERVAL:P3D
CALSCALE:GREGORIAN
BEGIN:VEVENT
DTSTART:20241224T223000Z
DTEND:20241225T010000Z
X-MICROSOFT-CDO-ALLDAYEVENT:FALSE
SUMMARY:Christmas Eve Services
DESCRIPTION:On Tuesday\, Dec. 24 we will have our annual Christmas Eve services. Two services are being offered\, one at 4:30 PM and 6:00 PM. There will be worship and communion.\n\n\n\nIn order for our Children's Ministry Team to spend time with their families\, there will be NO Children's Ministry during either service.\n\n\n\nEveryone is invited to join us!
X-ALT-DESC;FMTTYPE=text/html:<div>\n<div>On Tuesday\, Dec. 24 we will have our annual Christmas Eve services. Two services are being offered\, one at 4:30 PM and 6:00 PM. There will be worship and communion.</div>\n</div>\n\n<div>\n<div>In order for our Children&rsquo\;s Ministry Team to spend time with their families\, there will be NO Children&rsquo\;s Ministry during either service.</div>\n</div>\n\n<div>\n<div>Everyone is invited to join us!</div>\n</div>\n
LOCATION:930 N. Nolan River Rd\, Cleburne\, TX 76033
UID:e.2143.38737
SEQUENCE:3
DTSTAMP:20260421T220418Z
URL:http://business.cleburnechamber.com/events/details/christmas-eve-services-38737
END:VEVENT

END:VCALENDAR
