BEGIN:VCALENDAR
VERSION:2.0
PRODID:-//ChamberMaster//Event Calendar 2.0//EN
METHOD:PUBLISH
X-PUBLISHED-TTL:P3D
REFRESH-INTERVAL:P3D
CALSCALE:GREGORIAN
BEGIN:VEVENT
DTSTART:20260514T230000Z
DTEND:20260515T040000Z
X-MICROSOFT-CDO-ALLDAYEVENT:FALSE
SUMMARY:Cleburne Railroaders Opening Day
DESCRIPTION:Join us for Opening Day! The first game of the season is finally here! We are kicking off the season with a T-shirt Giveaway! The first 1000 fans through the gate on May 14th\, 2026\, will receive a 2026 Cleburne Railroaders concert-style T-shirt!
X-ALT-DESC;FMTTYPE=text/html:Join us for Opening Day! The first game of the season is finally here! We are kicking off the season with a T-shirt Giveaway! The first 1000 fans through the gate on May 14th\, 2026\, will receive a 2026 Cleburne Railroaders concert-style T-shirt!
LOCATION:La Moderna Field 1906 Brazzle Blvd. Cleburne\, Tx 76033
UID:e.2143.46884
SEQUENCE:3
DTSTAMP:20260423T122302Z
URL:http://business.cleburnechamber.com/events/details/cleburne-railroaders-opening-day-05-14-2026-46884
END:VEVENT

END:VCALENDAR
