BEGIN:VCALENDAR
VERSION:2.0
PRODID:-//ChamberMaster//Event Calendar 2.0//EN
METHOD:PUBLISH
X-PUBLISHED-TTL:P3D
REFRESH-INTERVAL:P3D
CALSCALE:GREGORIAN
BEGIN:VEVENT
DTSTART:20250911T140000Z
DTEND:20250911T180000Z
X-MICROSOFT-CDO-ALLDAYEVENT:FALSE
SUMMARY:FREE!!! Drive thru Flu Shot Clinic
DESCRIPTION:FREE - Flu Shots provided by: Texas Health Resources Faith Community Nurse Program.  Ages 9 and up.\n\n\n\nNo insurance required.  \n\n\n\nPlease be prepared for the upcoming Flu Season!
X-ALT-DESC;FMTTYPE=text/html:<span style="font-size:20px\;">FREE - Flu Shots provided by: Texas Health Resources Faith Community Nurse Program.&nbsp\; Ages 9 and up.<br />\n<br />\nNo insurance required.&nbsp\;&nbsp\;<br />\n<br />\nPlease be prepared for the upcoming Flu Season!</span>
LOCATION:Hope Church 2125 N. Nolan River Road
UID:e.2143.42127
SEQUENCE:3
DTSTAMP:20260425T013723Z
URL:http://business.cleburnechamber.com/events/details/free-drive-thru-flu-shot-clinic-42127
END:VEVENT

END:VCALENDAR
