BEGIN:VCALENDAR
VERSION:2.0
PRODID:-//ChamberMaster//Event Calendar 2.0//EN
METHOD:PUBLISH
X-PUBLISHED-TTL:P3D
REFRESH-INTERVAL:P3D
CALSCALE:GREGORIAN
BEGIN:VEVENT
DTSTART:20260605T121500Z
DTEND:20260605T200000Z
X-MICROSOFT-CDO-ALLDAYEVENT:FALSE
SUMMARY:Golf Tournament 2026 - June 5\, 2026
DESCRIPTION:Register Today!!\n\nPlease call for availability. Sponsorships still available.\n\n\n\nPlease join us at the 27th Annual Cleburne Chamber Golf Tournament. This year's tournament will be held at Cleburne Golf Links! This is a fun\, recreational opportunity for businesses to network and have a good time with other chamber and community members.  \n\n\n\n7:15am - Registration Opens \n\n8:30am - Shotgun Start\n\nLunch/Awards following tournament \n\n\n\nInterested in some great opportunities to promote your business? Call or email lynnb@cleburnechamber.com for details on sponsorship opportunities - 817-645-2455
X-ALT-DESC;FMTTYPE=text/html:Register Today!!<br />\n<span style="font-size:16px\;"><span style="color:#0000FF\;">Please call for availability. Sponsorships still available.</span></span><br />\n<br />\n<span style="font-size:14px\;"><span style="font-family:arial\;">Please join us at the 27th Annual Cleburne&nbsp\;Chamber Golf Tournament.&nbsp\;</span></span><span style="font-size:14px\;"><span style="font-family:arial\;">This year&#39\;s tournament will be held at<span style="color:#40E0D0\;"> </span><span style="color:#0000FF\;"><strong>Cleburne Golf Links!&nbsp\;</strong></span></span><span style="font-family:arial\;">This is a fun\, recreational opportunity for businesses to network and have a good time with other chamber and community members.&nbsp\;&nbsp\;</span></span><br />\n<br />\n7:15am - Registration Opens&nbsp\;<br />\n8:30am - Shotgun Start<br />\nLunch/Awards following tournament&nbsp\;<br />\n<br />\n<span style="font-size:14px\;"><u><span style="font-size:18px\;"><a href="https://acrobat.adobe.com/id/urn:aaid:sc:VA6C2:fcfa3207-f3dc-473c-a46c-68f49237e66e">Interested in some great opportunities to promote your business?</a></span>&nbsp\;</u><span style="font-family:arial\;">Call or email lynnb@cleburnechamber.com&nbsp\;for details on sponsorship opportunities - 817-645-2455</span></span>
LOCATION:Cleburne Golf Links
UID:e.2143.45756
SEQUENCE:3
DTSTAMP:20260424T171607Z
URL:http://business.cleburnechamber.com/events/details/golf-tournament-2026-june-5-2026-45756
END:VEVENT

END:VCALENDAR
