BEGIN:VCALENDAR
VERSION:2.0
PRODID:-//ChamberMaster//Event Calendar 2.0//EN
METHOD:PUBLISH
X-PUBLISHED-TTL:P3D
REFRESH-INTERVAL:P3D
CALSCALE:GREGORIAN
BEGIN:VEVENT
DTSTART:20260515T230000Z
DTEND:20260516T040000Z
X-MICROSOFT-CDO-ALLDAYEVENT:FALSE
SUMMARY:Grandparents Night Presented by Meals On Wheels North Central Texas
DESCRIPTION:Meals on Wheels North Central Texas proudly presents Grandparents Day! Bring your grandparents out for a fun-filled night at La Moderna Field and make lasting memories together. Plus\, for every ticket purchased through this special link\, $5 will go directly back to Meals on Wheels North Central Texas to support their incredible mission. To make the night even better\, it's also our first Fireworks Friday of the season. Stay after the game for an exciting postgame fireworks show!
X-ALT-DESC;FMTTYPE=text/html:Meals on Wheels North Central Texas proudly presents Grandparents Day! Bring your grandparents out for a fun-filled night at La Moderna Field and make lasting memories together. Plus\, for every ticket purchased through this special link\, $5 will go directly back to Meals on Wheels North Central Texas to support their incredible mission. To make the night even better\, it&rsquo\;s also our first Fireworks Friday of the season. Stay after the game for an exciting postgame fireworks show!
LOCATION:La Moderna Field 1906 Brazzle Blvd. Cleburne TX 76033
UID:e.2143.46885
SEQUENCE:3
DTSTAMP:20260423T122354Z
URL:http://business.cleburnechamber.com/events/details/grandparents-day-presented-by-meals-on-wheels-north-central-texas-46885
END:VEVENT

END:VCALENDAR
