BEGIN:VCALENDAR
VERSION:2.0
PRODID:-//ChamberMaster//Event Calendar 2.0//EN
METHOD:PUBLISH
X-PUBLISHED-TTL:P3D
REFRESH-INTERVAL:P3D
CALSCALE:GREGORIAN
BEGIN:VEVENT
DTSTART:20230215T173000Z
DTEND:20230215T190000Z
X-MICROSOFT-CDO-ALLDAYEVENT:FALSE
SUMMARY:Hispanic Business Alliance Luncheon
DESCRIPTION:Please join us for Lunch and Learn at Cleburne Conference Center\n\nGuest Speaker: Christopher Boedeker\, Johnson County Judge\n\n"Meet Judge Boedeker and learn about his vision for moving Johnson County forward"\n\n\n\nLo invitamos almorzar y conversar\n\nInvitado Especial: Christopher Boedeker\, Juez del Condado Johnson\n\n"Conoce al Juez Boederek y ven aprender sobre su visi n para hacer avanzar el condado de Johnson" \n\n\n\n\n\nInterested in sponsoring a Hispanic Business Alliance luncheon?  Please contact D'Arla Tyler at darlat@cleburnechamber.com
X-ALT-DESC;FMTTYPE=text/html:Please join us for Lunch and Learn at Cleburne Conference Center<br />\nGuest Speaker: Christopher Boedeker\, Johnson County Judge<br />\n&quot\;Meet Judge Boedeker and learn about his vision for moving Johnson County forward&quot\;<br />\n<br />\nLo invitamos almorzar y conversar<br />\nInvitado Especial:&nbsp\;<span style="color: rgb(51\, 51\, 51)\; font-family: sans-serif\, Arial\, Verdana\, &quot\;Trebuchet MS&quot\;\; font-size: 13px\; background-color: rgb(255\, 255\, 255)\;">Christopher Boedeker\, Juez del Condado Johnson<br />\n&quot\;</span><span style="font-family:calibri\,sans-serif\;"><span style="font-size:11.0pt\;">Conoce al Juez Boederek y ven aprender sobre su visi&oacute\;n para hacer avanzar el condado de Johnson&quot\;&nbsp\;</span></span><br />\n<br />\n<br />\nInterested in sponsoring a Hispanic Business Alliance luncheon?&nbsp\; Please contact D&#39\;Arla Tyler at <a href="mailto:darlat@cleburnechamber.com?subject=Sponsorship">darlat@cleburnechamber.com</a><br />\n&nbsp\;
LOCATION:Cleburne Conference center 1501 W. Henderson St.
UID:e.2143.29897
SEQUENCE:3
DTSTAMP:20260425T201906Z
URL:http://business.cleburnechamber.com/events/details/hispanic-business-alliance-luncheon-29897
END:VEVENT

END:VCALENDAR
