BEGIN:VCALENDAR
VERSION:2.0
PRODID:-//ChamberMaster//Event Calendar 2.0//EN
METHOD:PUBLISH
X-PUBLISHED-TTL:P3D
REFRESH-INTERVAL:P3D
CALSCALE:GREGORIAN
BEGIN:VEVENT
DTSTART:20260316T230000Z
DTEND:20260317T000000Z
X-MICROSOFT-CDO-ALLDAYEVENT:FALSE
SUMMARY:Human Trafficking Awareness & Prevention
DESCRIPTION:Come learn the realities of this crime\, what it looks like on our school campuses and communities and how to stay safe.
X-ALT-DESC;FMTTYPE=text/html:Come learn the realities of this crime\, what it looks like on our school campuses and communities and how to stay safe.
LOCATION:Cleburne Public Library 302 W Henderson St Cleburne TX 76033
UID:e.2143.46405
SEQUENCE:3
DTSTAMP:20260424T152615Z
URL:http://business.cleburnechamber.com/events/details/human-trafficking-awareness-prevention-46405
END:VEVENT

END:VCALENDAR
