BEGIN:VCALENDAR
VERSION:2.0
PRODID:-//ChamberMaster//Event Calendar 2.0//EN
METHOD:PUBLISH
X-PUBLISHED-TTL:P3D
REFRESH-INTERVAL:P3D
CALSCALE:GREGORIAN
BEGIN:VEVENT
DTSTART:20241212T173000Z
DTEND:20241212T190000Z
X-MICROSOFT-CDO-ALLDAYEVENT:FALSE
SUMMARY:JCBA Christmas Charity Luncheon
DESCRIPTION:Mark your Calendars! \n\n \n\nWe are thrilled to invite you to our upcoming Charity Luncheon\, a special event dedicated to 5 well-deserving charities on December 12th. We would like to thank ACS Bank in Godley for sponsoring this luncheon! We would be honored to have you share this meaningful experience with us!
X-ALT-DESC;FMTTYPE=text/html:<div>Mark your Calendars!&nbsp\;</div>\n\n<div>&nbsp\;</div>\n\n<div>We are thrilled to invite you to our upcoming Charity Luncheon\, a special event dedicated to 5 well-deserving charities on&nbsp\;December&nbsp\;12th. We would like to thank&nbsp\;<strong>ACS Bank in Godley</strong>&nbsp\;for sponsoring this luncheon! We would be honored to have you share this meaningful experience with us!</div>\n
LOCATION:Cleburne Conference Center
UID:e.2143.38704
SEQUENCE:3
DTSTAMP:20260421T215907Z
URL:http://business.cleburnechamber.com/events/details/jcba-christmas-charity-luncheon-38704
END:VEVENT

END:VCALENDAR
