BEGIN:VCALENDAR
VERSION:2.0
PRODID:-//ChamberMaster//Event Calendar 2.0//EN
METHOD:PUBLISH
X-PUBLISHED-TTL:P3D
REFRESH-INTERVAL:P3D
CALSCALE:GREGORIAN
BEGIN:VEVENT
DTSTART:20240117T150000Z
DTEND:20240117T180000Z
X-MICROSOFT-CDO-ALLDAYEVENT:FALSE
SUMMARY:Job Fair / Hiring Event
DESCRIPTION:Are you currently hiring for open positions within your company? Contact Kyle Cook at Workforce Solutions to have your business attend one or multiple job fairs and hiring events to meet with job seekers and fill those rolls.
X-ALT-DESC;FMTTYPE=text/html:Are you currently hiring for open positions within your company? Contact Kyle Cook at Workforce Solutions to have your business attend one or multiple job fairs and hiring events to meet with job seekers and fill those rolls.&nbsp\;
LOCATION:Workforce Solutions Center 202 Hyde Park Blvd Cleburne\, TX 76033
UID:e.2143.32879
SEQUENCE:3
DTSTAMP:20260423T013617Z
URL:http://business.cleburnechamber.com/events/details/job-fair-hiring-event-01-17-2024-32879
END:VEVENT

END:VCALENDAR
