BEGIN:VCALENDAR
VERSION:2.0
PRODID:-//ChamberMaster//Event Calendar 2.0//EN
METHOD:PUBLISH
X-PUBLISHED-TTL:P3D
REFRESH-INTERVAL:P3D
CALSCALE:GREGORIAN
BEGIN:VEVENT
DTSTART:20250313T233000Z
DTEND:20250314T003000Z
X-MICROSOFT-CDO-ALLDAYEVENT:FALSE
SUMMARY:Johnson County Democratic Executive Committee
DESCRIPTION:The Johnson County Democratic Executive Committee will meet for a regular business meeting on March 13th\, 2025 at the East Cleburne Community Center\, 602 Olive\, Cleburne\, TX\, 76033.  The meeting is open to the public.
X-ALT-DESC;FMTTYPE=text/html:The Johnson County Democratic Executive Committee will meet for a regular business meeting on March 13th\, 2025 at the East Cleburne Community Center\, 602 Olive\, Cleburne\, TX\, 76033.&nbsp\; The meeting is open to the public.
LOCATION:
UID:e.2143.39787
SEQUENCE:3
DTSTAMP:20260425T172420Z
URL:http://business.cleburnechamber.com/events/details/johnson-county-democratic-executive-committee-39787
END:VEVENT

END:VCALENDAR
