BEGIN:VCALENDAR
VERSION:2.0
PRODID:-//ChamberMaster//Event Calendar 2.0//EN
METHOD:PUBLISH
X-PUBLISHED-TTL:P3D
REFRESH-INTERVAL:P3D
CALSCALE:GREGORIAN
BEGIN:VEVENT
DTSTART:20260316T220000Z
DTEND:20260316T230000Z
X-MICROSOFT-CDO-ALLDAYEVENT:FALSE
SUMMARY:Juvenile America 250 Read Aloud
DESCRIPTION:"Cloaked in Courage". Registration is required as space is limited. One book will be provided per family to keep.
X-ALT-DESC;FMTTYPE=text/html:<span style="background-color:rgb(255\, 255\, 255)\; color:rgb(37\, 38\, 39)\; font-family:montserrat\; font-size:14px">&quot\;Cloaked in Courage&quot\;. Registration is required as space is limited. One book will be provided per family to keep.</span>
LOCATION:Cleburne Public Library 302 W. Henderson St Cleburne TX 76033
UID:e.2143.46389
SEQUENCE:3
DTSTAMP:20260424T184010Z
URL:http://business.cleburnechamber.com/events/details/juvenile-america-250-read-aloud-46389
END:VEVENT

END:VCALENDAR
