BEGIN:VCALENDAR
VERSION:2.0
PRODID:-//ChamberMaster//Event Calendar 2.0//EN
METHOD:PUBLISH
X-PUBLISHED-TTL:P3D
REFRESH-INTERVAL:P3D
CALSCALE:GREGORIAN
BEGIN:VEVENT
DTSTART:20260909T130000Z
DTEND:20260909T220000Z
X-MICROSOFT-CDO-ALLDAYEVENT:FALSE
SUMMARY:Leadership Cleburne 2026-2027
DESCRIPTION:Orientation               Wednesday\, September 9 - Mandatory\n\nSession                      Wednesday\, October 14\n\nSession                      Wednesday\, November 4\n\nSession                      Wednesday\, December 9\n\nSession                      Wednesday\, January 13\n\nSession                      Wednesday\, February 10\n\nSession                      Wednesday\, March 10\n\nSession                      Wednesday\, April 14 (1 Day Trip to Austin 0600 to 730pm) \n\nGraduation               Wednesday\, May 13\n\n*Community Service Project Day (Approx. 4 Hours) ? *Date TBD (Weekend)
X-ALT-DESC;FMTTYPE=text/html:<span style="font-size:18px\;"><span style="font-family:georgia\,serif\;">Orientation&nbsp\;&nbsp\; &nbsp\;&nbsp\;&nbsp\;&nbsp\;&nbsp\;&nbsp\;&nbsp\;&nbsp\;&nbsp\;&nbsp\;&nbsp\; Wednesday\, September 9&nbsp\;<span style="color:red\;">- Mandatory</span></span><br />\n<span style="font-family:georgia\,serif\;">Session&nbsp\;&nbsp\;&nbsp\;&nbsp\;&nbsp\;&nbsp\;&nbsp\;&nbsp\;&nbsp\;&nbsp\;&nbsp\;&nbsp\;&nbsp\;&nbsp\;&nbsp\;&nbsp\;&nbsp\;&nbsp\;&nbsp\;&nbsp\;&nbsp\; Wednesday\, October 14</span><br />\n<span style="font-family:georgia\,serif\;">Session&nbsp\;&nbsp\;&nbsp\;&nbsp\;&nbsp\;&nbsp\;&nbsp\;&nbsp\;&nbsp\;&nbsp\;&nbsp\;&nbsp\;&nbsp\;&nbsp\;&nbsp\;&nbsp\;&nbsp\;&nbsp\;&nbsp\;&nbsp\;&nbsp\; Wednesday\, November 4</span><br />\n<span style="font-family:georgia\,serif\;">Session&nbsp\;&nbsp\;&nbsp\;&nbsp\;&nbsp\;&nbsp\;&nbsp\;&nbsp\;&nbsp\;&nbsp\;&nbsp\;&nbsp\;&nbsp\;&nbsp\;&nbsp\;&nbsp\;&nbsp\;&nbsp\;&nbsp\;&nbsp\;&nbsp\; Wednesday\, December 9</span><br />\n<span style="font-family:georgia\,serif\;">Session&nbsp\;&nbsp\;&nbsp\;&nbsp\;&nbsp\;&nbsp\;&nbsp\;&nbsp\;&nbsp\;&nbsp\;&nbsp\;&nbsp\;&nbsp\;&nbsp\;&nbsp\;&nbsp\;&nbsp\;&nbsp\;&nbsp\;&nbsp\;&nbsp\; Wednesday\, January 13</span><br />\n<span style="font-family:georgia\,serif\;">Session&nbsp\;&nbsp\;&nbsp\;&nbsp\;&nbsp\;&nbsp\;&nbsp\;&nbsp\;&nbsp\;&nbsp\;&nbsp\;&nbsp\;&nbsp\;&nbsp\;&nbsp\;&nbsp\;&nbsp\;&nbsp\;&nbsp\;&nbsp\;&nbsp\; Wednesday\, February 10</span><br />\n<span style="font-family:georgia\,serif\;">Session&nbsp\;&nbsp\;&nbsp\;&nbsp\;&nbsp\;&nbsp\;&nbsp\;&nbsp\;&nbsp\;&nbsp\;&nbsp\;&nbsp\;&nbsp\;&nbsp\;&nbsp\;&nbsp\;&nbsp\;&nbsp\;&nbsp\;&nbsp\;&nbsp\; Wednesday\, March 10</span><br />\n<span style="font-family:georgia\,serif\;">Session&nbsp\;&nbsp\;&nbsp\;&nbsp\;&nbsp\;&nbsp\;&nbsp\;&nbsp\;&nbsp\;&nbsp\;&nbsp\;&nbsp\;&nbsp\;&nbsp\;&nbsp\;&nbsp\;&nbsp\;&nbsp\;&nbsp\;&nbsp\;&nbsp\; Wednesday\, April 14&nbsp\;<span style="color:red\;">(1 Day Trip to Austin 0600 to 730pm)</span> </span><br />\n<span style="font-family:georgia\,serif\;">Graduation&nbsp\;&nbsp\;&nbsp\;&nbsp\;&nbsp\;&nbsp\;&nbsp\;&nbsp\;&nbsp\;&nbsp\;&nbsp\;&nbsp\;&nbsp\;&nbsp\; Wednesday\, May 13</span><br />\n<span style="font-family:georgia\,serif\;">*Community Service Project Day (Approx. 4 Hours) ? *Date TBD (Weekend)</span></span><br />\n<br />\n&nbsp\;
LOCATION:
UID:e.2143.46888
SEQUENCE:3
DTSTAMP:20260424T220206Z
URL:http://business.cleburnechamber.com/events/details/leadership-cleburne-2026-2027-46888
END:VEVENT

END:VCALENDAR
