BEGIN:VCALENDAR
VERSION:2.0
PRODID:-//ChamberMaster//Event Calendar 2.0//EN
METHOD:PUBLISH
X-PUBLISHED-TTL:P3D
REFRESH-INTERVAL:P3D
CALSCALE:GREGORIAN
BEGIN:VEVENT
DTSTART:20251026T180000Z
DTEND:20251026T220000Z
X-MICROSOFT-CDO-ALLDAYEVENT:FALSE
SUMMARY:Loteria! Mexican Bingo
DESCRIPTION:Loter a Fundraiser   Texas Elks Children's Camp\n\nSunday\, October 26\, 2025 | Doors open at 1:00 PM\n\nJoin us for an afternoon of fun and community at our Loter a (Mexican Bingo) fundraiser!\n\n   $20 Admission includes 2 Loter a cards and a Nacho Bar meal.\n\nAdditional cards are available for $5 each\, and prizes will be awarded to our lucky winners!\n\nAll proceeds support the Texas Elks Children's Camp in Gonzales\, Texas   helping make a difference in the lives of children across our state.\n\nBring your friends\, enjoy great food\, and help support a wonderful cause!
X-ALT-DESC;FMTTYPE=text/html:<p data-end="201" data-start="95"><strong data-end="146" data-start="95">Loter&iacute\;a Fundraiser &ndash\; Texas Elks Children&rsquo\;s Camp</strong><br data-end="149" data-start="146" />\n<strong data-end="201" data-start="149">Sunday\, October 26\, 2025 | Doors open at 1:00 PM</strong></p>\n\n<p data-end="469" data-start="203">Join us for an afternoon of fun and community at our <strong data-end="283" data-start="256">Loter&iacute\;a (Mexican Bingo)</strong> fundraiser!<br data-end="298" data-start="295" />\n&#127903\;&#65039\; <em data-end="317" data-start="302">$20 Admission</em> includes <strong data-end="346" data-start="327">2 Loter&iacute\;a cards</strong> and a <strong data-end="371" data-start="353">Nacho Bar meal</strong>.<br data-end="375" data-start="372" />\nAdditional cards are available for $5 each\, and prizes will be awarded to our lucky winners!</p>\n\n<p data-end="618" data-start="471">All proceeds support the <strong data-end="526" data-start="496">Texas Elks Children&rsquo\;s Camp</strong> in Gonzales\, Texas &mdash\; helping make a difference in the lives of children across our state.</p>\n\n<p data-end="695" data-start="620">Bring your friends\, enjoy great food\, and help support a wonderful cause!</p>\n
LOCATION:124 FM 1434 CLEBURNE\, TEXAS 76043
UID:e.2143.43526
SEQUENCE:3
DTSTAMP:20260420T234344Z
URL:http://business.cleburnechamber.com/events/details/loteria-mexican-bingo-43526
END:VEVENT

END:VCALENDAR
