BEGIN:VCALENDAR
VERSION:2.0
PRODID:-//ChamberMaster//Event Calendar 2.0//EN
METHOD:PUBLISH
X-PUBLISHED-TTL:P3D
REFRESH-INTERVAL:P3D
CALSCALE:GREGORIAN
BEGIN:VEVENT
DTSTART:20260420T230000Z
DTEND:20260421T000000Z
X-MICROSOFT-CDO-ALLDAYEVENT:FALSE
SUMMARY:Monday Night Book Club
DESCRIPTION:Monday Night Book Club. This month's selection is "The Alice Network" by Kate Quinn
X-ALT-DESC;FMTTYPE=text/html:Monday Night Book Club. This month&#39\;s selection is &quot\;The Alice Network&quot\; by Kate Quinn
LOCATION:Cleburne Public Library 302 W Henderson St Cleburne TX 76033
UID:e.2143.46008
SEQUENCE:3
DTSTAMP:20260423T172324Z
URL:http://business.cleburnechamber.com/events/details/monday-night-book-club-46008
END:VEVENT

END:VCALENDAR
