BEGIN:VCALENDAR
VERSION:2.0
PRODID:-//ChamberMaster//Event Calendar 2.0//EN
METHOD:PUBLISH
X-PUBLISHED-TTL:P3D
REFRESH-INTERVAL:P3D
CALSCALE:GREGORIAN
BEGIN:VEVENT
DTSTART:20241123T003000Z
DTEND:20241123T020000Z
X-MICROSOFT-CDO-ALLDAYEVENT:FALSE
SUMMARY:Music Bingo - Stone Trough Winery
DESCRIPTION:All American Music Bingo at Stone Trough Winery.  Cards are free\, food and drinks are available for purchase during the event.  We will be serving grass fed burgers and Great Texas Wine.
X-ALT-DESC;FMTTYPE=text/html:All American Music Bingo at Stone Trough Winery.&nbsp\; Cards are free\, food and drinks are available for purchase during the event.&nbsp\; We will be serving grass fed burgers and Great Texas Wine.
LOCATION:Stone Trough Winery\, 2849 S. Hwy 171\, Cleburne\, TX 76031
UID:e.2143.38650
SEQUENCE:3
DTSTAMP:20260421T204616Z
URL:http://business.cleburnechamber.com/events/details/music-bingo-stone-trough-winery-38650
END:VEVENT

END:VCALENDAR
