BEGIN:VCALENDAR
VERSION:2.0
PRODID:-//ChamberMaster//Event Calendar 2.0//EN
METHOD:PUBLISH
X-PUBLISHED-TTL:P3D
REFRESH-INTERVAL:P3D
CALSCALE:GREGORIAN
BEGIN:VEVENT
DTSTART:20260520T153000Z
DTEND:20260520T163000Z
X-MICROSOFT-CDO-ALLDAYEVENT:FALSE
SUMMARY:Preschool Storytime
DESCRIPTION:Storytime for ages 3 to 5 with stories and songs.
X-ALT-DESC;FMTTYPE=text/html:Storytime for ages 3 to 5 with stories and songs.&nbsp\;
LOCATION:Cleburne Public Library 302 W. Henderson St. Cleburne\, TX 76033
UID:e.2143.46341
SEQUENCE:3
DTSTAMP:20260423T160210Z
URL:http://business.cleburnechamber.com/events/details/preschool-storytime-05-20-2026-46341
END:VEVENT

END:VCALENDAR
