BEGIN:VCALENDAR
VERSION:2.0
PRODID:-//ChamberMaster//Event Calendar 2.0//EN
METHOD:PUBLISH
X-PUBLISHED-TTL:P3D
REFRESH-INTERVAL:P3D
CALSCALE:GREGORIAN
BEGIN:VEVENT
DTSTART:20251002T230000Z
DTEND:20251003T000000Z
X-MICROSOFT-CDO-ALLDAYEVENT:FALSE
SUMMARY:Q&A about Medicare Plans 2026
DESCRIPTION:Clear answers to your 2026 Medicare questions \n\nBring your friends and your questions \n\nCall to RSVP \n\nBrandon 817-648-6236
X-ALT-DESC;FMTTYPE=text/html:Clear answers to your 2026 Medicare questions&nbsp\;<br />\nBring your friends and your questions&nbsp\;<br />\n<strong>Call to RSVP&nbsp\;<br />\nBrandon 817-648-6236</strong><br />\n&nbsp\;
LOCATION:
UID:e.2143.43501
SEQUENCE:3
DTSTAMP:20260421T133913Z
URL:http://business.cleburnechamber.com/events/details/q-a-about-medicare-plans-2026-10-02-2025-43501
END:VEVENT

END:VCALENDAR
