BEGIN:VCALENDAR
VERSION:2.0
PRODID:-//ChamberMaster//Event Calendar 2.0//EN
METHOD:PUBLISH
X-PUBLISHED-TTL:P3D
REFRESH-INTERVAL:P3D
CALSCALE:GREGORIAN
BEGIN:VEVENT
DTSTART:20251016T230000Z
DTEND:20251017T000000Z
X-MICROSOFT-CDO-ALLDAYEVENT:FALSE
SUMMARY:Q&A about Medicare Plans 2026
DESCRIPTION:Clear answers to your 2026 Medicare questions.\n\nBring your friends and bring your questions.\n\nCall to RSVP\n\nBrandon 817-648-6236
X-ALT-DESC;FMTTYPE=text/html:<p>Clear answers to your 2026 Medicare questions.<br />\nBring your friends and bring your questions.<br />\n<strong>Call to RSVP</strong><br />\n<strong>Brandon 817-648-6236</strong></p>\n
LOCATION:
UID:e.2143.43499
SEQUENCE:3
DTSTAMP:20260421T133734Z
URL:http://business.cleburnechamber.com/events/details/q-a-about-medicare-plans-2026-43499
END:VEVENT

END:VCALENDAR
