BEGIN:VCALENDAR
VERSION:2.0
PRODID:-//ChamberMaster//Event Calendar 2.0//EN
METHOD:PUBLISH
X-PUBLISHED-TTL:P3D
REFRESH-INTERVAL:P3D
CALSCALE:GREGORIAN
BEGIN:VEVENT
DTSTART:20251004T230000Z
DTEND:20251005T000000Z
X-MICROSOFT-CDO-ALLDAYEVENT:FALSE
SUMMARY:Review your 2026 Medicare benefits
DESCRIPTION:Join us for a Medicare plans presentation \n\nSpace is limited. RSVP today \n\nCleburne Conference Center \n\nErika 817-240-4381
X-ALT-DESC;FMTTYPE=text/html:Join us for a Medicare plans presentation&nbsp\;<br />\nSpace is limited. RSVP today&nbsp\;<br />\nCleburne Conference Center&nbsp\;<br />\nErika <a href="tel:817-240-4381">817-240-4381</a>
LOCATION:
UID:e.2143.43496
SEQUENCE:3
DTSTAMP:20260421T134459Z
URL:http://business.cleburnechamber.com/events/details/review-your-2026-medicare-benefits-10-04-2025-43496
END:VEVENT

END:VCALENDAR
