BEGIN:VCALENDAR
VERSION:2.0
PRODID:-//ChamberMaster//Event Calendar 2.0//EN
METHOD:PUBLISH
X-PUBLISHED-TTL:P3D
REFRESH-INTERVAL:P3D
CALSCALE:GREGORIAN
BEGIN:VEVENT
DTSTART:20251011T200000Z
DTEND:20251011T210000Z
X-MICROSOFT-CDO-ALLDAYEVENT:FALSE
SUMMARY:Review your 2026 Medicare Benefits
DESCRIPTION:Join us for a Medicare plans presentation \n\nSpace is limited. RSVP Today \n\nCleburne Conference Center\n\nErika 817-240-4381
X-ALT-DESC;FMTTYPE=text/html:Join us for a Medicare plans presentation&nbsp\;<br />\nSpace is limited.&nbsp\;<strong>RSVP Today&nbsp\;</strong><br />\nCleburne Conference Center<br />\n<a href="tel:817-240-4381"><strong>Erika 817-240-4381</strong></a><br />\n&nbsp\;
LOCATION:
UID:e.2143.43497
SEQUENCE:3
DTSTAMP:20260421T134619Z
URL:http://business.cleburnechamber.com/events/details/review-your-2026-medicare-benefits-10-11-2025-43497
END:VEVENT

END:VCALENDAR
