BEGIN:VCALENDAR
VERSION:2.0
PRODID:-//ChamberMaster//Event Calendar 2.0//EN
METHOD:PUBLISH
X-PUBLISHED-TTL:P3D
REFRESH-INTERVAL:P3D
CALSCALE:GREGORIAN
BEGIN:VEVENT
DTSTART:20251025T160000Z
DTEND:20251025T170000Z
X-MICROSOFT-CDO-ALLDAYEVENT:FALSE
SUMMARY:Review your 2026 Medicare Benefits
DESCRIPTION:Join us for a 2026 Medicare plans presentation \n\nBring your friends \n\nSpace is limited. RSVP Today\n\nErika 817-240-4381
X-ALT-DESC;FMTTYPE=text/html:Join us for a 2026 Medicare plans presentation&nbsp\;<br />\nBring your friends&nbsp\;<br />\nSpace is limited.&nbsp\;<strong>RSVP Today<br />\nErika 817-240-4381</strong><br />\n&nbsp\;
LOCATION:
UID:e.2143.43503
SEQUENCE:3
DTSTAMP:20260421T134654Z
URL:http://business.cleburnechamber.com/events/details/review-your-2026-medicare-benefits-10-25-2025-43503
END:VEVENT

END:VCALENDAR
