BEGIN:VCALENDAR
VERSION:2.0
PRODID:-//ChamberMaster//Event Calendar 2.0//EN
METHOD:PUBLISH
X-PUBLISHED-TTL:P3D
REFRESH-INTERVAL:P3D
CALSCALE:GREGORIAN
BEGIN:VEVENT
DTSTART:20250807T150000Z
DTEND:20250807T153000Z
X-MICROSOFT-CDO-ALLDAYEVENT:FALSE
SUMMARY:Ribbon Cutting - Aida's Happy Days Event Center
DESCRIPTION:Join us for a Ribbon Cutting!
X-ALT-DESC;FMTTYPE=text/html:<span style="font-size:28px\;">Join us for a Ribbon Cutting!</span>
LOCATION:534 CR 426\, Cleburne
UID:e.2143.41469
SEQUENCE:3
DTSTAMP:20260421T033126Z
URL:http://business.cleburnechamber.com/events/details/ribbon-cutting-aida-s-happy-days-event-center-41469
END:VEVENT

END:VCALENDAR
