BEGIN:VCALENDAR
VERSION:2.0
PRODID:-//ChamberMaster//Event Calendar 2.0//EN
METHOD:PUBLISH
X-PUBLISHED-TTL:P3D
REFRESH-INTERVAL:P3D
CALSCALE:GREGORIAN
BEGIN:VEVENT
DTSTART:20191203T160000Z
DTEND:20191203T163000Z
X-MICROSOFT-CDO-ALLDAYEVENT:FALSE
SUMMARY:Ribbon Cutting - Ascension Church (Next Generation Preschool)
DESCRIPTION:Please join us for a Ribbon Cutting!
X-ALT-DESC;FMTTYPE=text/html:Please join us for a Ribbon Cutting!
LOCATION:205 S. Ridgeway
UID:e.2143.21705
SEQUENCE:3
DTSTAMP:20260422T132634Z
URL:http://business.cleburnechamber.com/events/details/ribbon-cutting-ascension-church-next-generation-preschool-21705
END:VEVENT

END:VCALENDAR
