BEGIN:VCALENDAR
VERSION:2.0
PRODID:-//ChamberMaster//Event Calendar 2.0//EN
METHOD:PUBLISH
X-PUBLISHED-TTL:P3D
REFRESH-INTERVAL:P3D
CALSCALE:GREGORIAN
BEGIN:VEVENT
DTSTART:20250923T150000Z
DTEND:20250923T153000Z
X-MICROSOFT-CDO-ALLDAYEVENT:FALSE
SUMMARY:Ribbon Cutting - Connie Russek Candidate for J.C. District Clerk
DESCRIPTION:Join us for a Ribbon Cutting!
X-ALT-DESC;FMTTYPE=text/html:<span style="font-size:28px\;">Join us for a Ribbon Cutting!</span>
LOCATION:Chamber Office
UID:e.2143.42008
SEQUENCE:3
DTSTAMP:20260421T014151Z
URL:http://business.cleburnechamber.com/events/details/ribbon-cutting-connie-russek-candidate-for-j-c-district-clerk-42008
END:VEVENT

END:VCALENDAR
