BEGIN:VCALENDAR
VERSION:2.0
PRODID:-//ChamberMaster//Event Calendar 2.0//EN
METHOD:PUBLISH
X-PUBLISHED-TTL:P3D
REFRESH-INTERVAL:P3D
CALSCALE:GREGORIAN
BEGIN:VEVENT
DTSTART:20241210T160000Z
DTEND:20241210T163000Z
X-MICROSOFT-CDO-ALLDAYEVENT:FALSE
SUMMARY:Ribbon Cutting - E-Z Pay Insurance
DESCRIPTION:Join us for a Ribbon Cutting!
X-ALT-DESC;FMTTYPE=text/html:<span style="font-size:28px\;">Join us for a Ribbon Cutting!</span>
LOCATION:1200 W. Henderson Ste D
UID:e.2143.38642
SEQUENCE:3
DTSTAMP:20260425T235541Z
URL:http://business.cleburnechamber.com/events/details/ribbon-cutting-e-z-pay-insurance-38642
END:VEVENT

END:VCALENDAR
