BEGIN:VCALENDAR
VERSION:2.0
PRODID:-//ChamberMaster//Event Calendar 2.0//EN
METHOD:PUBLISH
X-PUBLISHED-TTL:P3D
REFRESH-INTERVAL:P3D
CALSCALE:GREGORIAN
BEGIN:VEVENT
DTSTART:20250612T170000Z
DTEND:20250612T173000Z
X-MICROSOFT-CDO-ALLDAYEVENT:FALSE
SUMMARY:Ribbon Cutting - HTeaO Cleburne
DESCRIPTION:Join us for a Ribbon Cutting!
X-ALT-DESC;FMTTYPE=text/html:<span style="font-size:28px\;">Join us for a Ribbon Cutting!</span>
LOCATION:101 N Nolan River Rd\, Cleburne
UID:e.2143.41203
SEQUENCE:3
DTSTAMP:20260421T072758Z
URL:http://business.cleburnechamber.com/events/details/ribbon-cutting-hteao-cleburne-41203
END:VEVENT

END:VCALENDAR
