BEGIN:VCALENDAR
VERSION:2.0
PRODID:-//ChamberMaster//Event Calendar 2.0//EN
METHOD:PUBLISH
X-PUBLISHED-TTL:P3D
REFRESH-INTERVAL:P3D
CALSCALE:GREGORIAN
BEGIN:VEVENT
DTSTART:20260205T160000Z
DTEND:20260205T163000Z
X-MICROSOFT-CDO-ALLDAYEVENT:FALSE
SUMMARY:Ribbon Cutting - Julie Hammond for Johnson County Justice of the Peace Precinct 1
DESCRIPTION:Join us for a Ribbon Cutting!\n\n"The Cleburne Chamber of Commerce is a non-political organization promoting all chamber members equally."
X-ALT-DESC;FMTTYPE=text/html:<span style="font-size:28px\;">Join us for a Ribbon Cutting!<br />\n<span style="font-size:12px\;">&quot\;The Cleburne Chamber of Commerce is a non-political organization promoting all chamber members equally.&quot\;</span></span>
LOCATION:Chamber Office
UID:e.2143.46238
SEQUENCE:3
DTSTAMP:20260420T160126Z
URL:http://business.cleburnechamber.com/events/details/ribbon-cutting-julie-hammond-for-johnson-county-justice-of-the-peace-precinct-1-46238
END:VEVENT

END:VCALENDAR
