BEGIN:VCALENDAR
VERSION:2.0
PRODID:-//ChamberMaster//Event Calendar 2.0//EN
METHOD:PUBLISH
X-PUBLISHED-TTL:P3D
REFRESH-INTERVAL:P3D
CALSCALE:GREGORIAN
BEGIN:VEVENT
DTSTART:20260609T190000Z
DTEND:20260609T193000Z
X-MICROSOFT-CDO-ALLDAYEVENT:FALSE
SUMMARY:Ribbon Cutting - Remedi Pilates
DESCRIPTION:Join us for a Ribbon Cutting!
X-ALT-DESC;FMTTYPE=text/html:<span style="font-size:28px\;">Join us for a Ribbon Cutting!</span>
LOCATION:1200 West Henderson Street Suite D
UID:e.2143.46889
SEQUENCE:3
DTSTAMP:20260424T171056Z
URL:http://business.cleburnechamber.com/events/details/ribbon-cutting-remedi-pilates-46889
END:VEVENT

END:VCALENDAR
