BEGIN:VCALENDAR
VERSION:2.0
PRODID:-//ChamberMaster//Event Calendar 2.0//EN
METHOD:PUBLISH
X-PUBLISHED-TTL:P3D
REFRESH-INTERVAL:P3D
CALSCALE:GREGORIAN
BEGIN:VEVENT
DTSTART:20231202T160000Z
DTEND:20231202T220000Z
X-MICROSOFT-CDO-ALLDAYEVENT:FALSE
SUMMARY:Save Old Cleburne Holiday Market
DESCRIPTION:Holiday shopping for Christmas!  Come and join us!
X-ALT-DESC;FMTTYPE=text/html:<em><span style="font-size:24px\;">Holiday shopping for Christmas!&nbsp\; Come and join us!</span></em><br />\n&nbsp\;
LOCATION:JN Long Cultural Art Center (located in the gymnasium-look for the signs) 425 Granbury St.
UID:e.2143.31950
SEQUENCE:3
DTSTAMP:20260423T043405Z
URL:http://business.cleburnechamber.com/events/details/save-old-cleburne-holiday-market-31950
END:VEVENT

END:VCALENDAR
