BEGIN:VCALENDAR
VERSION:2.0
PRODID:-//ChamberMaster//Event Calendar 2.0//EN
METHOD:PUBLISH
X-PUBLISHED-TTL:P3D
REFRESH-INTERVAL:P3D
CALSCALE:GREGORIAN
BEGIN:VEVENT
DTSTART:20241207T160000Z
DTEND:20241207T220000Z
X-MICROSOFT-CDO-ALLDAYEVENT:FALSE
SUMMARY:Save Old Cleburne Holiday Market
DESCRIPTION:Save Old Cleburne Holiday Market
X-ALT-DESC;FMTTYPE=text/html:Save Old Cleburne Holiday Market
LOCATION:JN Long Cultural Arts Center 425 Granbury Rd\, Cleburne Tx 76033
UID:e.2143.38003
SEQUENCE:3
DTSTAMP:20260421T215656Z
URL:http://business.cleburnechamber.com/events/details/save-old-cleburne-holiday-market-38003
END:VEVENT

END:VCALENDAR
