BEGIN:VCALENDAR
VERSION:2.0
PRODID:-//ChamberMaster//Event Calendar 2.0//EN
METHOD:PUBLISH
X-PUBLISHED-TTL:P3D
REFRESH-INTERVAL:P3D
CALSCALE:GREGORIAN
BEGIN:VEVENT
DTSTART:20250503T160000Z
DTEND:20250503T210000Z
X-MICROSOFT-CDO-ALLDAYEVENT:FALSE
SUMMARY:Sloan Photography Exhibit
DESCRIPTION:The Wartime Photographs of Lamar Sloan exhibit opens to the public and can be viewed until July 26.
X-ALT-DESC;FMTTYPE=text/html:The Wartime Photographs of Lamar Sloan exhibit opens to the public and can be viewed until July 26.
LOCATION:Layland Museum of History
UID:e.2143.41117
SEQUENCE:3
DTSTAMP:20260426T042808Z
URL:http://business.cleburnechamber.com/events/details/sloan-photography-exhibit-41117
END:VEVENT

END:VCALENDAR
