BEGIN:VCALENDAR
VERSION:2.0
PRODID:-//ChamberMaster//Event Calendar 2.0//EN
METHOD:PUBLISH
X-PUBLISHED-TTL:P3D
REFRESH-INTERVAL:P3D
CALSCALE:GREGORIAN
BEGIN:VEVENT
DTSTART:20260129T230000Z
DTEND:20260130T010000Z
X-MICROSOFT-CDO-ALLDAYEVENT:FALSE
SUMMARY:Solis Mammography-OPEN HOUSE
DESCRIPTION:Join Solis Mammography as we debut our state of the art breast center and see why SMARTCURVE is changing the shape of mammography. \n\nLight refreshments will be served.\n\nPlease RSVP to Angela Mobley 214-498-0688
X-ALT-DESC;FMTTYPE=text/html:Join Solis Mammography as we debut our state of the art breast center and see why SMARTCURVE is changing the shape of mammography.&nbsp\;<br />\nLight refreshments will be served.<br />\nPlease RSVP to Angela Mobley 214-498-0688
LOCATION:219 N Ridgeview Drive\, Unit B Cleburne
UID:e.2143.46254
SEQUENCE:3
DTSTAMP:20260424T185413Z
URL:http://business.cleburnechamber.com/events/details/solis-mammography-open-house-46254
END:VEVENT

END:VCALENDAR
