BEGIN:VCALENDAR
VERSION:2.0
PRODID:-//ChamberMaster//Event Calendar 2.0//EN
METHOD:PUBLISH
X-PUBLISHED-TTL:P3D
REFRESH-INTERVAL:P3D
CALSCALE:GREGORIAN
BEGIN:VEVENT
DTSTART:20260326T220000Z
DTEND:20260326T230000Z
X-MICROSOFT-CDO-ALLDAYEVENT:FALSE
SUMMARY:Teen Trivia
DESCRIPTION:Teen Trivia Night. 5th grade and older. Pizza and drinks. Registration required.
X-ALT-DESC;FMTTYPE=text/html:Teen Trivia Night. 5th grade and older. Pizza and drinks. Registration required.
LOCATION:Cleburne Public Library 302 W. Henderson St Cleburne TX 76033
UID:e.2143.46396
SEQUENCE:3
DTSTAMP:20260424T184016Z
URL:http://business.cleburnechamber.com/events/details/teen-trivia-46396
END:VEVENT

END:VCALENDAR
