BEGIN:VCALENDAR
VERSION:2.0
PRODID:-//ChamberMaster//Event Calendar 2.0//EN
METHOD:PUBLISH
X-PUBLISHED-TTL:P3D
REFRESH-INTERVAL:P3D
CALSCALE:GREGORIAN
BEGIN:VEVENT
DTSTART:20060915T050000Z
DTEND:20060915T050000Z
X-MICROSOFT-CDO-ALLDAYEVENT:FALSE
SUMMARY:Total Resource Campaign 06-07
DESCRIPTION:Total Resource Campaign 06-07
X-ALT-DESC;FMTTYPE=text/html:Total Resource Campaign 06-07
LOCATION:Cleburne Chamber of Commerce
UID:e.2143.1273
SEQUENCE:3
DTSTAMP:20260419T125010Z
URL:http://business.cleburnechamber.com/events/details/total-resource-campaign-06-07-09-15-2006-1273
END:VEVENT

END:VCALENDAR
