BEGIN:VCALENDAR
VERSION:2.0
PRODID:-//ChamberMaster//Event Calendar 2.0//EN
METHOD:PUBLISH
X-PUBLISHED-TTL:P3D
REFRESH-INTERVAL:P3D
CALSCALE:GREGORIAN
BEGIN:VEVENT
DTSTART:20251101T153000Z
DTEND:20251101T163000Z
X-MICROSOFT-CDO-ALLDAYEVENT:FALSE
SUMMARY:Touch A Truck Hometown Hero Event
DESCRIPTION:Bring the whole family out for a fun and interactive Touch-A-Truck event hosted by Tractor Supply Co.  in Cleburne! Kids can explore a variety of big trucks and emergency vehicles\, including a police car and fire truck on display.\n\nAnd that's not all   we'll also have a pet adoption trailer on-site with adorable cats and dogs looking for their forever homes! Come support local rescues and maybe even meet your new best friend!\n\nThis free\, family-friendly event is a great way to connect with the community\, meet first responders\, and enjoy a day of hands-on fun. We can't wait to see you there!
X-ALT-DESC;FMTTYPE=text/html:<p>Bring the whole family out for a fun and interactive Touch-A-Truck event hosted by Tractor Supply Co. &nbsp\;in Cleburne! Kids can explore a variety of big trucks and emergency vehicles\, including a police car and fire truck on display.</p>\n\n<p>And that&rsquo\;s not all &mdash\; we&rsquo\;ll also have a pet adoption trailer on-site with adorable cats and dogs looking for their forever homes! Come support local rescues and maybe even meet your new best friend!</p>\n\n<p>This free\, family-friendly event is a great way to connect with the community\, meet first responders\, and enjoy a day of hands-on fun. We can&rsquo\;t wait to see you there!</p>\n\n<div>&nbsp\;</div>\n\n<div>&nbsp\;</div>\n
LOCATION:Tractor Supply Co. Cleburne
UID:e.2143.43519
SEQUENCE:3
DTSTAMP:20260420T214117Z
URL:http://business.cleburnechamber.com/events/details/touch-a-truck-hometown-hero-event-43519
END:VEVENT

END:VCALENDAR
