BEGIN:VCALENDAR
VERSION:2.0
PRODID:-//ChamberMaster//Event Calendar 2.0//EN
METHOD:PUBLISH
X-PUBLISHED-TTL:P3D
REFRESH-INTERVAL:P3D
CALSCALE:GREGORIAN
BEGIN:VEVENT
DTSTART:20250712T150000Z
DTEND:20250712T163000Z
X-MICROSOFT-CDO-ALLDAYEVENT:FALSE
SUMMARY:Town Hall - Rep. Helen Kerwin
DESCRIPTION:TOWN HALL MEETING
X-ALT-DESC;FMTTYPE=text/html:TOWN HALL MEETING
LOCATION:250 E James St.
UID:e.2143.41464
SEQUENCE:3
DTSTAMP:20260421T051313Z
URL:http://business.cleburnechamber.com/events/details/town-hall-rep-helen-kerwin-41464
END:VEVENT

END:VCALENDAR
