BEGIN:VCALENDAR
VERSION:2.0
PRODID:-//ChamberMaster//Event Calendar 2.0//EN
METHOD:PUBLISH
X-PUBLISHED-TTL:P3D
REFRESH-INTERVAL:P3D
CALSCALE:GREGORIAN
BEGIN:VEVENT
DTSTART:20250926T200000Z
DTEND:20250926T220000Z
X-MICROSOFT-CDO-ALLDAYEVENT:FALSE
SUMMARY:United Cooperative Services Grand Opening\, Ribbon Cutting & Open House
DESCRIPTION:You are invited to join us in celebrating the opening of United Cooperative Services'\, Cleburne office!\n\n\n\nRibbon Cutting: 3pm\n\nOpen House: 3:30pm-5pm
X-ALT-DESC;FMTTYPE=text/html:You are invited to join us in celebrating the opening of United Cooperative Services&#39\;\, Cleburne office!<br />\n<br />\nRibbon Cutting: 3pm<br />\nOpen House: 3:30pm-5pm
LOCATION:3309 N. Main St.
UID:e.2143.42123
SEQUENCE:3
DTSTAMP:20260421T014212Z
URL:http://business.cleburnechamber.com/events/details/united-cooperative-services-grand-opening-ribbon-cutting-open-house-42123
END:VEVENT

END:VCALENDAR
